BEGIN:VCALENDAR
VERSION:2.0
PRODID:-//Squarespace Inc/Squarespace 6//v6//EN
BEGIN:VEVENT
UID:5c1b031721c67cd78306b485@squarespace.com
DTSTAMP:20190212T052755Z
DTSTART:20190306T150000Z
DTEND:20190306T180000Z
SUMMARY:What is Dementia? - Chelsea
GEO:-38.050857;145.117803
LOCATION:Longbeach Place Neighbourhood House\, 15 Chelsea Road\, Chelsea\, 
 Australia
END:VEVENT
END:VCALENDAR
