BEGIN:VCALENDAR
VERSION:2.0
PRODID:-//Squarespace Inc/Squarespace 6//v6//EN
BEGIN:VEVENT
UID:5c1b082f88251bd4aee08bb4@squarespace.com
DTSTAMP:20190103T011633Z
DTSTART:20190313T143000Z
DTEND:20190313T180000Z
SUMMARY:Riding the Roller Coaster - Chelsea
GEO:-38.050857;145.117803
LOCATION:Longbeach Place Neighbourhood House\, 15 Chelsea Road\, Chelsea\, 
 Australia
END:VEVENT
END:VCALENDAR
