BEGIN:VCALENDAR
VERSION:2.0
PRODID:-//Squarespace Inc/Squarespace 6//v6//EN
BEGIN:VEVENT
UID:5c2454e64fa51a5c3ebc577b@squarespace.com
DTSTAMP:20190117T012648Z
DTSTART:20190523T140000Z
DTEND:20190523T180000Z
SUMMARY:Creative Ways to Care - (8 Sessions) Berwick
GEO:-38.054395;145.332999
LOCATION:The Old Cheese Factory\, 34 Homestead Road\, Berwick\, Australia
END:VEVENT
END:VCALENDAR
