BEGIN:VCALENDAR
VERSION:2.0
PRODID:-//Squarespace Inc/Squarespace 6//v6//EN
BEGIN:VEVENT
UID:5c1b0c5b4ae2376e723445fa@squarespace.com
DTSTAMP:20190103T011657Z
DTSTART:20190321T140000Z
DTEND:20190321T173000Z
SUMMARY:Practical Matters - Chelsea
GEO:-38.050857;145.117803
LOCATION:Longbeach Place Neighbourhood House\, 15 Chelsea Road\, Chelsea\, 
 Australia
END:VEVENT
END:VCALENDAR
