BEGIN:VCALENDAR
VERSION:2.0
PRODID:-//Squarespace Inc/Squarespace 6//v6//EN
BEGIN:VEVENT
UID:5c2442fd1ae6cf8610adaf66@squarespace.com
DTSTAMP:20190207T010719Z
DTSTART:20190305T150000Z
DTEND:20190305T180000Z
SUMMARY:Carers Get Frustrated Too - Hastings
GEO:-38.298425;145.190863
LOCATION:Hastings Motor Inn\, 126 Marine Parade\, Hastings\, Australia
END:VEVENT
END:VCALENDAR
