BEGIN:VCALENDAR
VERSION:2.0
PRODID:-//Squarespace Inc/Squarespace 6//v6//EN
BEGIN:VEVENT
UID:5c241b36575d1fcf2a3d4124@squarespace.com
DTSTAMP:20190116T011418Z
DTSTART:20190121T210000Z
DTEND:20190122T000000Z
SUMMARY:Classic Movie Club - Brighton
GEO:-37.91957;145.02407
LOCATION:Classic Residences\, 3 Brewer Street\, Brighton East\, Australia
END:VEVENT
END:VCALENDAR
