BEGIN:VCALENDAR
VERSION:2.0
PRODID:-//Squarespace Inc/Squarespace 6//v6//EN
BEGIN:VEVENT
UID:5c2427d54ae237f246012209@squarespace.com
DTSTAMP:20190116T011454Z
DTSTART:20190325T200000Z
DTEND:20190325T230000Z
SUMMARY:Classic Movie Club - Brighton
GEO:-37.91957;145.02407
LOCATION:Classic Residences\, 3 brewer street\, brighton east\, Australia
END:VEVENT
END:VCALENDAR
