BEGIN:VCALENDAR
VERSION:2.0
PRODID:-//Squarespace Inc/Squarespace 6//v6//EN
BEGIN:VEVENT
UID:5c2428814ae237f2460128b7@squarespace.com
DTSTAMP:20190116T011513Z
DTSTART:20190429T200000Z
DTEND:20190429T230000Z
SUMMARY:Classic Movie Club - Brighton
GEO:-37.91957;145.02407
LOCATION:Classic Residences\, 3 brewer street\, brighton east\, Australia
END:VEVENT
END:VCALENDAR
