BEGIN:VCALENDAR
VERSION:2.0
PRODID:-//Squarespace Inc/Squarespace 6//v6//EN
BEGIN:VEVENT
UID:5c24292c6d2a73c86c22fd7e@squarespace.com
DTSTAMP:20190116T011538Z
DTSTART:20190527T200000Z
DTEND:20190527T230000Z
SUMMARY:Classic Movie Club - Brighton
GEO:-37.91957;145.02407
LOCATION:Classic Residences\, 3 brewer street\, brighton east\, Australia
END:VEVENT
END:VCALENDAR
