BEGIN:VCALENDAR
VERSION:2.0
PRODID:-//Squarespace Inc/Squarespace 6//v6//EN
BEGIN:VEVENT
UID:5c242a784fa51a5c3ebac0b3@squarespace.com
DTSTAMP:20190116T011552Z
DTSTART:20190624T200000Z
DTEND:20190624T230000Z
SUMMARY:Classic Movie Club - Brighton
GEO:-37.91957;145.02407
LOCATION:Classic Residences\, 3 brewer street\, brighton east\, Australia
END:VEVENT
END:VCALENDAR
