BEGIN:VCALENDAR
VERSION:2.0
PRODID:-//Squarespace Inc/Squarespace 6//v6//EN
BEGIN:VEVENT
UID:5c242b712b6a28a419ceee79@squarespace.com
DTSTAMP:20190103T010639Z
DTSTART:20190219T223000Z
DTEND:20190220T010000Z
SUMMARY:Frankston Movie Club 
GEO:-38.145554;145.124291
LOCATION:Alfred Healt Carer Services\, 51 Playne Street\, Frankston\, VIC\, 
 3199\, Australia
END:VEVENT
END:VCALENDAR
