BEGIN:VCALENDAR
VERSION:2.0
PRODID:-//Squarespace Inc/Squarespace 6//v6//EN
BEGIN:VEVENT
UID:5c2435f74fa51a5c3ebb2c16@squarespace.com
DTSTAMP:20190103T011002Z
DTSTART:20190319T213000Z
DTEND:20190320T000000Z
SUMMARY:Frankston Movie Club 
GEO:-38.145554;145.124291
LOCATION:Alfred Health Carer Services Frankston\, 51 Playne Street\, franks
 ton\, Australia
END:VEVENT
END:VCALENDAR
