BEGIN:VCALENDAR
VERSION:2.0
PRODID:-//Squarespace Inc/Squarespace 6//v6//EN
BEGIN:VEVENT
UID:5c243735032be489c3c8a5a6@squarespace.com
DTSTAMP:20190103T012011Z
DTSTART:20190416T213000Z
DTEND:20190417T000000Z
SUMMARY:Frankston Movie Club 
GEO:-38.145554;145.124291
LOCATION:Alfred Health Carer Services Frankston\, 51 Playne Street\, franks
 ton\, Australia
END:VEVENT
END:VCALENDAR
