BEGIN:VCALENDAR
VERSION:2.0
PRODID:-//Squarespace Inc/Squarespace 6//v6//EN
BEGIN:VEVENT
UID:5c2439f4562fa7fbb4909b4a@squarespace.com
DTSTAMP:20190103T011528Z
DTSTART:20190213T150000Z
DTEND:20190213T173000Z
SUMMARY:Self Care through Tai Chi &amp\; Mindfulness (3 session program) - 
 Springvale
GEO:-37.942262;145.146621
LOCATION:Springvale Reserve\, 1 Ericksen Street\, Springvale\, VIC\, 3171\, 
 Australia
END:VEVENT
END:VCALENDAR
