BEGIN:VCALENDAR
VERSION:2.0
PRODID:-//Squarespace Inc/Squarespace 6//v6//EN
BEGIN:VEVENT
UID:5c24553b575d1fcf2a3f682b@squarespace.com
DTSTAMP:20190103T011804Z
DTSTART:20190508T140000Z
DTEND:20190508T173000Z
SUMMARY:Aged Care Program (2 session program) - Chelsea
GEO:37.09024;-95.712891
LOCATION:Longbeach Place Neighbourhood House\, 15 Chelsea Road\, Chelsea\, 
 Australia
END:VEVENT
END:VCALENDAR
