BEGIN:VCALENDAR
VERSION:2.0
PRODID:-//Squarespace Inc/Squarespace 6//v6//EN
BEGIN:VEVENT
UID:5c2459488a922df266b7c75e@squarespace.com
DTSTAMP:20190103T011924Z
DTSTART:20190619T140000Z
DTEND:20190619T173000Z
SUMMARY:Aged Care Program (2 session program) - Frankston
GEO:-38.138527;145.1518
LOCATION:Karingal Place\, 103 Ashleigh Avenue\, Frankston\, VIC\, 3199\, Au
 stralia
END:VEVENT
END:VCALENDAR
