BEGIN:VCALENDAR
VERSION:2.0
PRODID:-//Squarespace Inc/Squarespace 6//v6//EN
BEGIN:VEVENT
UID:5c295d81032be425c6816ac6@squarespace.com
DTSTAMP:20190207T003831Z
DTSTART:20190314T134500Z
DTEND:20190314T161500Z
SUMMARY:Managing Carer Fatigue (3 session program) - Highett
GEO:-37.95062;145.046485
LOCATION:The Buckingham International\, 1130 Nepean Highway\, Highett\, Aus
 tralia
END:VEVENT
END:VCALENDAR
