BEGIN:VCALENDAR
VERSION:2.0
PRODID:-//Squarespace Inc/Squarespace 6//v6//EN
BEGIN:VEVENT
UID:5c24624d352f5349204145c5@squarespace.com
DTSTAMP:20190103T011912Z
DTSTART:20190606T140000Z
DTEND:20190606T173000Z
SUMMARY:Blokes in a Caring Role (4 session program) - Frankston
GEO:-38.145554;145.124291
LOCATION:Alfred Health carer Services\, 51 Playne Street\, Frankston\, VIC\
 , 3199\, Australia
END:VEVENT
END:VCALENDAR
