BEGIN:VCALENDAR
VERSION:2.0
PRODID:-//Squarespace Inc/Squarespace 6//v6//EN
BEGIN:VEVENT
UID:5c14c1350e2e72b118498148@squarespace.com
DTSTAMP:20190103T012042Z
DTSTART:20190206T190000Z
DTEND:20190206T210000Z
SUMMARY:Home Care Package - Caulfield
GEO:-37.884176;145.016011
LOCATION:Carer Services\, 260 Kooyong Road\, Caulfield\, VIC\, 3162\, Austr
 alia
END:VEVENT
END:VCALENDAR
